Workbook

Sheet 1ЦК
B1: Предельные уровни нерегулируемых цен на электрическую энергию (мощность), поставляемую потребителям (покупателям)
B2: Публичного акционерного общества "Рязанская энергетическая сбытовая компания" (ПАО "РЭСК")
B3: АВГУСТ 2026г.
B5: I. Первая ценовая категория
B6: (для объемов покупки электрической энергии (мощности), учет которых осуществляется в целом за расчетный период)
A8: 1. Конечная нерегулируемая цена (рублей/ МВт.ч без НДС)
A9: Категория потребителей | B9: Уровень напряжения
B10: ВН | C10: СН I | D10: СН II | E10: НН
A11: 1.1. Прочие потребители | B11: 7779.54 | C11: 9181.97 | D11: 9184.11 | E11: 10535.05
A12: 1.2. Прочие потребители (договора купли-продажи) | B12: 5585.59 | C12: =B12 -> 5585.59 | D12: =C12 -> 5585.59 | E12: =D12 -> 5585.59
A13: 1.3. Сетевые организации (договора на компенсацию потерь для объемов, не превышающих объемы потерь, учтенные в сводном прогнозном балансе на текущий год) | B13: 4397.53 | C13: =B13 -> 4397.53 | D13: =C13 -> 4397.53 | E13: =D13 -> 4397.53
A14: 1.4. Сетевые организации (договора на компенсацию потерь для объемов, превышающих объемы потерь, учтенные в сводном прогнозном балансе на текущий год) | B14: 4794.84 | C14: =B14 -> 4794.84 | D14: =C14 -> 4794.84 | E14: =D14 -> 4794.84
A15: 2. Средневзвешенная нерегулируемая цена на электрическую энергию (мощность), используемая для расчета конечных нерегулируемых цен для первой ценовой категории | J15: 4242.47 | K15: рублей/МВт.ч, без НДС
A16: 3. Составляющие расчета средневзвешенной нерегулируемой цены на электрическую энергию (мощность), используемой для расчета конечных нерегулируемых цен для первой ценовой категории:
A17: а) средневзвешенная нерегулируемая цена на электрическую энергию на оптовом рынке | J17: 2644,95 | K17: рублей/МВт.ч
A18: б) средневзвешенная нерегулируемая цена на мощность на оптовом рынке, рублей/МВт | J18: 1149763,04 | K18: рублей/МВт
A19: в) коэффициент оплаты мощности потребителями (покупателями), осуществляющими расчеты по первой ценовой категории | J19: 0.0013894329 | K19: 1/час
A20: г) объем фактического пикового потребления гарантирующего поставщика на оптовом рынке | J20: 292.224 | K20: МВт
A21: д) сумма величин мощности, оплачиваемой на розничном рынке потребителями (покупателями), осуществляющими расчеты по второй - шестой ценовым категориям, в том числе: | J21: 89.720695 | K21: МВт
B22: по второй ценовой категории | J22: 0.72669464 | K22: МВт
B23: по третьей ценовой категории | J23: 78.106 | K23: МВт
B24: по четвертой ценовой категории | J24: 10.888 | K24: МВт
B25: по пятой ценовой категории | J25: 0 | K25: МВт
B26: по шестой ценовой категории | J26: 0 | K26: МВт
A27: е) объем потребления мощности населением и приравненными к нему категориями потребителей | J27: 101.7207 | K27: МВт
A28: ж) фактический объем потребления электрической энергии гарантирующим поставщиком на оптовом рынке | J28: 180660.02 | K28: МВт.ч
A29: з) сумма объемов потребления электрической энергии потребителями (покупателями), осуществляющими расчеты по второй - шестой ценовым категориям, в том числе: | J29: 50188.208 | K29: МВт.ч
B30: по второй ценовой категории | J30: 515.9 | K30: МВт.ч
B31: по третьей ценовой категории | J31: 43094.288 | K31: МВт.ч
B32: по четвертой ценовой категории | J32: 6578.02 | K32: МВт.ч
B33: по пятой ценовой категории | J33: 0 | K33: МВт.ч
B34: по шестой ценовой категории | J34: 0 | K34: МВт.ч
A35: и) объем потребления электрической энергии населением и приравненными к нему категориями потребителей | J35: 58490.2 | K35: МВт.ч
A36: к) величина изменения средневзвешенной нерегулируемой цены на электрическую энергию (мощность), связанная с учетом данных за предыдущие расчётные периоды1 | J36: 0 | K36: рублей/МВт.ч
A37: л) сумма объемов мощности за расчетный период (m) производителей электрической энергии на розничном рынке, учтенных в прогнозном балансе на период регулирования, по договорам купли-продажи (поставки) электрической энергии (мощности), заключенным с соответствующим гарантирующим поставщиком | J37: 4.082 | K37: МВт
A38: м) сумма объемов электрической энергии за расчетный период (m) производителей электрической энергии на розничном рынке, учтенных в прогнозном балансе на период регулирования, по договорам купли-продажи (поставки) электрической энергии (мощности), заключенным с соответствующим гарантирующим поставщиком | J38: 3491.348 | K38: МВт.ч
A39: н)коэффициент оплаты услуг по управлению изменением режима потребления электрической энергии потребителями (покупателями), осуществляющими расчеты по первой и второй ценовым категориям | J39: 0.0013858307 | K39: 1/час
A40: о) средневзвешенная цена оказания услуг по управлению изменением режима потребления электрической энергии на оптовом рынке | J40: 753,43 | K40: рублей/МВт

Sheet 2ЦК
B1: Предельные уровни нерегулируемых цен на электрическую энергию (мощность), поставляемую потребителям (покупателям)
B2: Публичного акционерного общества "Рязанская энергетическая сбытовая компания" (ПАО "РЭСК")
B3: ='1ЦК'!B3 -> АВГУСТ 2026г.
B5: II. Вторая ценовая категория
B6: (для объемов покупки электрической энергии (мощности), учет которых осуществляется по зонам суток расчетного периода)
A8: 1. Предельный уровень нерегулируемых цен для 3-х зон суток (рублей/ МВт·ч, без НДС)
A9: Зоны суток | B9: Уровень напряжения
B10: ВН | C10: СН I | D10: СН II | E10: НН
A11: 1.1. Прочие потребители
A12: Ночная | B12: 5411.08 | C12: 6813.51 | D12: 6815.65 | E12: 8166.59
A13: Полупиковая | B13: 8214.36 | C13: 9616.79 | D13: 9618.93 | E13: 10969.87
A14: Пиковая | B14: 13173.05 | C14: 14575.48 | D14: 14577.62 | E14: 15928.56
A15: 1.2. Прочие потребители (договора купли-продажи)
A16: Ночная | B16: 3217.13 | C16: =B16 -> 3217.13 | D16: =C16 -> 3217.13 | E16: =D16 -> 3217.13
A17: Полупиковая | B17: 6020.41 | C17: =B17 -> 6020.41 | D17: =C17 -> 6020.41 | E17: =D17 -> 6020.41
A18: Пиковая | B18: 10979.1 | C18: =B18 -> 10979.1 | D18: =C18 -> 10979.1 | E18: =D18 -> 10979.1
A20: 2. Предельный уровень нерегулируемых цен для 2-х зон суток (рублей/ МВт·ч, без НДС)
A21: Зоны суток | B21: Уровень напряжения
B22: ВН | C22: СН I | D22: СН II | E22: НН
A23: 2.1. Прочие потребители
A24: Ночная | B24: 5411.08 | C24: 6813.51 | D24: 6815.65 | E24: 8166.59
A25: Дневная | B25: 10754.64 | C25: 12157.07 | D25: 12159.21 | E25: 13510.15
A26: 2.3. Прочие потребители (договора купли-продажи)
A27: Ночная | B27: 3217.13 | C27: =B27 -> 3217.13 | D27: =C27 -> 3217.13 | E27: =D27 -> 3217.13
A28: Дневная | B28: 8560.69 | C28: =B28 -> 8560.69 | D28: =C28 -> 8560.69 | E28: =D28 -> 8560.69

Sheet 3ЦК
I1: Предельные уровни нерегулируемых цен на электрическую энергию (мощность), поставляемую потребителям (покупателям)
I2: Публичного акционерного общества "Рязанская энергетическая сбытовая компания" (ПАО "РЭСК")
I3: ='1ЦК'!B3 -> АВГУСТ 2026г.
I5: III. Третья ценовая категория
B6: (для объемов покупки электрической энергии (мощности), в отношении которых за расчетный период осуществляется почасовой учет, но не осуществляется почасовое планирование, а стоимость услуг по передаче электрической энергии определяется по тарифу на услуги по передаче электрической энергии в одноставочном выражении)
A8: 1. Ставка за электрическую энергию конечных нерегулируемых цен (рублей/ МВт·ч, без НДС)
A9: 1.1. Для потребителей с максимальной мощностью энергопринимающих устройств менее 670 кВт
A10: Дата | B10: Ставка для фактических почасовых объемов покупки электрической энергии, отпущенных на уровне напряжения ВН
B11: 0:00 - 1:00 | C11: 1:00 - 2:00 | D11: 2:00 - 3:00 | E11: 3:00 - 4:00 | F11: 4:00 - 5:00 | G11: 5:00 - 6:00 | H11: 6:00 - 7:00 | I11: 7:00 - 8:00 | J11: 8:00 - 9:00 | K11: 9:00 - 10:00 | L11: 10:00 - 11:00 | M11: 11:00 - 12:00 | N11: 12:00 - 13:00 | O11: 13:00 - 14:00 | P11: 14:00 - 15:00 | Q11: 15:00 - 16:00 | R11: 16:00 - 17:00 | S11: 17:00 - 18:00 | T11: 18:00 - 19:00 | U11: 19:00 - 20:00 | V11: 20:00 - 21:00 | W11: 21:00 - 22:00 | X11: 22:00 - 23:00 | Y11: 23:00 - 24:00
A12: 1 | B12: 5138.31 | C12: 4903.81 | D12: 4872.66 | E12: 4826.23 | F12: 4756.09 | G12: 4831.65 | H12: 4844.16 | I12: 4960.55 | J12: 5583.32 | K12: 5785.37 | L12: 5960.26 | M12: 6160.78 | N12: 6188.91 | O12: 6101.03 | P12: 6182.55 | Q12: 6414.03 | R12: 6443.42 | S12: 6425.43 | T12: 6260.46 | U12: 6212.63 | V12: 6224.69 | W12: 6179.85 | X12: 5851.95 | Y12: 5547.27
A13: 2 | B13: 4954.5 | C13: 4759.19 | D13: 4721.33 | E13: 4672.56 | F13: 4680.5 | G13: 4669.88 | H13: 4672.39 | I13: 4771.57 | J13: 5325.94 | K13: 5619.55 | L13: 5874.18 | M13: 6016.2 | N13: 6082.86 | O13: 6157.48 | P13: 6213.05 | Q13: 6305.7 | R13: 6399.28 | S13: 6397.93 | T13: 6286.91 | U13: 6303.22 | V13: 6285.8 | W13: 6231.91 | X13: 5952.98 | Y13: 5564.24
A14: 3 | B14: 4796.25 | C14: 4444.62 | D14: 4430.19 | E14: 4419.84 | F14: 4385.53 | G14: 4420.55 | H14: 4441.96 | I14: 4991.03 | J14: 5520.76 | K14: 5835.41 | L14: 6109.08 | M14: 6203.39 | N14: 6183.38 | O14: 6307.08 | P14: 6346.3 | Q14: 6370.81 | R14: 6347.76 | S14: 6256.62 | T14: 6026.35 | U14: 6027.51 | V14: 5954.86 | W14: 5655.81 | X14: 5261.12 | Y14: 4852.61
A15: 4 | B15: 4598.32 | C15: 4064.65 | D15: 4046.75 | E15: 4031.66 | F15: 4017.79 | G15: 4021.79 | H15: 4050.44 | I15: 5137.09 | J15: 5550.18 | K15: 6055.8 | L15: 6245.28 | M15: 6249.23 | N15: 6236.83 | O15: 6336.89 | P15: 6353.25 | Q15: 6436.3 | R15: 6375.92 | S15: 6271.64 | T15: 6233.6 | U15: 6091.87 | V15: 6065.67 | W15: 5907.08 | X15: 5464.31 | Y15: 4959.41
A16: 5 | B16: 4989.97 | C16: 4932.99 | D16: 4247.2 | E16: 4219.39 | F16: 4193.15 | G16: 4528.98 | H16: 5128.57 | I16: 7513.48 | J16: 6100.83 | K16: 7090.51 | L16: 7172.23 | M16: 7118.99 | N16: 7125.79 | O16: 7726.66 | P16: 7730.27 | Q16: 7747.61 | R16: 7170.96 | S16: 6370.64 | T16: 6278.86 | U16: 6149.4 | V16: 6045.15 | W16: 6643.16 | X16: 7593.58 | Y16: 7510.83
A17: 6 | B17: 4486.45 | C17: 3799.88 | D17: 3787.9 | E17: 3778.75 | F17: 3765.9 | G17: 3782.54 | H17: 3799.43 | I17: 4932.69 | J17: 5698.78 | K17: 6106.7 | L17: 6252.58 | M17: 6345.49 | N17: 6319.51 | O17: 6418.5 | P17: 6458.16 | Q17: 6442.9 | R17: 6454.95 | S17: 6347.59 | T17: 6140.99 | U17: 6085.36 | V17: 6083.26 | W17: 5984.73 | X17: 5492.87 | Y17: 4969.45
A18: 7 | B18: 4998.39 | C18: 5093.68 | D18: 5090.13 | E18: 5088.21 | F18: 5104.46 | G18: 5097.38 | H18: 5146.66 | I18: 6945.01 | J18: 7071.42 | K18: 6255.18 | L18: 6566.21 | M18: 6597.78 | N18: 6596.71 | O18: 6527.85 | P18: 6530.56 | Q18: 6727.79 | R18: 6678.75 | S18: 6590.72 | T18: 6465.19 | U18: 6315.49 | V18: 6253.64 | W18: 6236.91 | X18: 5863.51 | Y18: 6205.12
A19: 8 | B19: 5044.55 | C19: 4786.72 | D19: 4614.63 | E19: 4532.75 | F19: 4423.73 | G19: 4654.75 | H19: 4764.3 | I19: 5192.06 | J19: 5559.38 | K19: 5939.6 | L19: 6113.07 | M19: 6215.95 | N19: 6242.5 | O19: 6312.93 | P19: 6349.34 | Q19: 6438.67 | R19: 6479.89 | S19: 6429.24 | T19: 6298.76 | U19: 6246.38 | V19: 6203.28 | W19: 6095 | X19: 5642.66 | Y19: 5279.52
A20: 9 | B20: 5173.65 | C20: 4803.07 | D20: 4751.96 | E20: 4716.67 | F20: 4727.88 | G20: 4738.48 | H20: 4676.06 | I20: 4983.96 | J20: 5375.68 | K20: 5727.38 | L20: 5991.66 | M20: 6006.42 | N20: 6086.59 | O20: 6144.08 | P20: 6165.79 | Q20: 6181.73 | R20: 6260.25 | S20: 6233.32 | T20: 6222 | U20: 6184.36 | V20: 6148.61 | W20: 5899.69 | X20: 5508.55 | Y20: 5185.54
A21: 10 | B21: 5020.4 | C21: 4816.72 | D21: 4718.99 | E21: 4703.81 | F21: 4684.07 | G21: 4712.75 | H21: 5033.77 | I21: 7565.51 | J21: 7642.17 | K21: 7687.39 | L21: 7694.8 | M21: 7702.47 | N21: 7157.85 | O21: 7705.6 | P21: 7702.97 | Q21: 6482.13 | R21: 6313.17 | S21: 6826.34 | T21: 6240.17 | U21: 6179.22 | V21: 6062.28 | W21: 6045.59 | X21: 5540.8 | Y21: 5212.57
A22: 11 | B22: 5092.47 | C22: 3976.16 | D22: 3966.21 | E22: 3956.54 | F22: 3951.37 | G22: 3946.83 | H22: 5102 | I22: 6903.05 | J22: 7615.82 | K22: 5947.18 | L22: 6208.52 | M22: 6253.76 | N22: 6244.29 | O22: 6321.81 | P22: 6342.85 | Q22: 6366.67 | R22: 6353.83 | S22: 6301.69 | T22: 6246.73 | U22: 6203.81 | V22: 6178.25 | W22: 5949.73 | X22: 5493.58 | Y22: 5176.63
A23: 12 | B23: 4881.93 | C23: 4616.46 | D23: 4146.58 | E23: 3617.9 | F23: 3616 | G23: 4058 | H23: 5292.16 | I23: 7477.96 | J23: 5959.14 | K23: 6297.96 | L23: 6422.32 | M23: 6589.48 | N23: 6586.37 | O23: 6534.01 | P23: 6565.01 | Q23: 6566.27 | R23: 6554.26 | S23: 6537.54 | T23: 6450.79 | U23: 6350.77 | V23: 6300.48 | W23: 6226.59 | X23: 5839.31 | Y23: 5384.42
... A42: 31 | B42: 5229.71 | C42: 5099.1 | D42: 5197.04 | E42: 5194.52 | F42: 5195.76 | G42: 5203.83 | H42: 5355.92 | I42: 6819.88 | J42: 7457.99 | K42: 7601.34 | L42: 7461.25 | M42: 7453.99 | N42: 7452.8 | O42: 7453.05 | P42: 7569.84 | Q42: 7578.8 | R42: 7455.65 | S42: 7458.73 | T42: 7458.38 | U42: 7456.36 | V42: 6269.44 | W42: 6235.33 | X42: 5917.09 | Y42: 5571.87
A44: Дата | B44: Ставка для фактических почасовых объемов покупки электрической энергии, отпущенных на уровне напряжения СН I
B45: 0:00 - 1:00 | C45: 1:00 - 2:00 | D45: 2:00 - 3:00 | E45: 3:00 - 4:00 | F45: 4:00 - 5:00 | G45: 5:00 - 6:00 | H45: 6:00 - 7:00 | I45: 7:00 - 8:00 | J45: 8:00 - 9:00 | K45: 9:00 - 10:00 | L45: 10:00 - 11:00 | M45: 11:00 - 12:00 | N45: 12:00 - 13:00 | O45: 13:00 - 14:00 | P45: 14:00 - 15:00 | Q45: 15:00 - 16:00 | R45: 16:00 - 17:00 | S45: 17:00 - 18:00 | T45: 18:00 - 19:00 | U45: 19:00 - 20:00 | V45: 20:00 - 21:00 | W45: 21:00 - 22:00 | X45: 22:00 - 23:00 | Y45: 23:00 - 24:00
A46: 1 | B46: 6540.74 | C46: 6306.24 | D46: 6275.09 | E46: 6228.66 | F46: 6158.52 | G46: 6234.08 | H46: 6246.59 | I46: 6362.98 | J46: 6985.75 | K46: 7187.8 | L46: 7362.69 | M46: 7563.21 | N46: 7591.34 | O46: 7503.46 | P46: 7584.98 | Q46: 7816.46 | R46: 7845.85 | S46: 7827.86 | T46: 7662.89 | U46: 7615.06 | V46: 7627.12 | W46: 7582.28 | X46: 7254.38 | Y46: 6949.7
A47: 2 | B47: 6356.93 | C47: 6161.62 | D47: 6123.76 | E47: 6074.99 | F47: 6082.93 | G47: 6072.31 | H47: 6074.82 | I47: 6174 | J47: 6728.37 | K47: 7021.98 | L47: 7276.61 | M47: 7418.63 | N47: 7485.29 | O47: 7559.91 | P47: 7615.48 | Q47: 7708.13 | R47: 7801.71 | S47: 7800.36 | T47: 7689.34 | U47: 7705.65 | V47: 7688.23 | W47: 7634.34 | X47: 7355.41 | Y47: 6966.67
A48: 3 | B48: 6198.68 | C48: 5847.05 | D48: 5832.62 | E48: 5822.27 | F48: 5787.96 | G48: 5822.98 | H48: 5844.39 | I48: 6393.46 | J48: 6923.19 | K48: 7237.84 | L48: 7511.51 | M48: 7605.82 | N48: 7585.81 | O48: 7709.51 | P48: 7748.73 | Q48: 7773.24 | R48: 7750.19 | S48: 7659.05 | T48: 7428.78 | U48: 7429.94 | V48: 7357.29 | W48: 7058.24 | X48: 6663.55 | Y48: 6255.04
A49: 4 | B49: 6000.75 | C49: 5467.08 | D49: 5449.18 | E49: 5434.09 | F49: 5420.22 | G49: 5424.22 | H49: 5452.87 | I49: 6539.52 | J49: 6952.61 | K49: 7458.23 | L49: 7647.71 | M49: 7651.66 | N49: 7639.26 | O49: 7739.32 | P49: 7755.68 | Q49: 7838.73 | R49: 7778.35 | S49: 7674.07 | T49: 7636.03 | U49: 7494.3 | V49: 7468.1 | W49: 7309.51 | X49: 6866.74 | Y49: 6361.84
A50: 5 | B50: 6392.4 | C50: 6335.42 | D50: 5649.63 | E50: 5621.82 | F50: 5595.58 | G50: 5931.41 | H50: 6531 | I50: 8915.91 | J50: 7503.26 | K50: 8492.94 | L50: 8574.66 | M50: 8521.42 | N50: 8528.22 | O50: 9129.09 | P50: 9132.7 | Q50: 9150.04 | R50: 8573.39 | S50: 7773.07 | T50: 7681.29 | U50: 7551.83 | V50: 7447.58 | W50: 8045.59 | X50: 8996.01 | Y50: 8913.26
A51: 6 | B51: 5888.88 | C51: 5202.31 | D51: 5190.33 | E51: 5181.18 | F51: 5168.33 | G51: 5184.97 | H51: 5201.86 | I51: 6335.12 | J51: 7101.21 | K51: 7509.13 | L51: 7655.01 | M51: 7747.92 | N51: 7721.94 | O51: 7820.93 | P51: 7860.59 | Q51: 7845.33 | R51: 7857.38 | S51: 7750.02 | T51: 7543.42 | U51: 7487.79 | V51: 7485.69 | W51: 7387.16 | X51: 6895.3 | Y51: 6371.88
A52: 7 | B52: 6400.82 | C52: 6496.11 | D52: 6492.56 | E52: 6490.64 | F52: 6506.89 | G52: 6499.81 | H52: 6549.09 | I52: 8347.44 | J52: 8473.85 | K52: 7657.61 | L52: 7968.64 | M52: 8000.21 | N52: 7999.14 | O52: 7930.28 | P52: 7932.99 | Q52: 8130.22 | R52: 8081.18 | S52: 7993.15 | T52: 7867.62 | U52: 7717.92 | V52: 7656.07 | W52: 7639.34 | X52: 7265.94 | Y52: 7607.55
A53: 8 | B53: 6446.98 | C53: 6189.15 | D53: 6017.06 | E53: 5935.18 | F53: 5826.16 | G53: 6057.18 | H53: 6166.73 | I53: 6594.49 | J53: 6961.81 | K53: 7342.03 | L53: 7515.5 | M53: 7618.38 | N53: 7644.93 | O53: 7715.36 | P53: 7751.77 | Q53: 7841.1 | R53: 7882.32 | S53: 7831.67 | T53: 7701.19 | U53: 7648.81 | V53: 7605.71 | W53: 7497.43 | X53: 7045.09 | Y53: 6681.95
A54: 9 | B54: 6576.08 | C54: 6205.5 | D54: 6154.39 | E54: 6119.1 | F54: 6130.31 | G54: 6140.91 | H54: 6078.49 | I54: 6386.39 | J54: 6778.11 | K54: 7129.81 | L54: 7394.09 | M54: 7408.85 | N54: 7489.02 | O54: 7546.51 | P54: 7568.22 | Q54: 7584.16 | R54: 7662.68 | S54: 7635.75 | T54: 7624.43 | U54: 7586.79 | V54: 7551.04 | W54: 7302.12 | X54: 6910.98 | Y54: 6587.97
A55: 10 | B55: 6422.83 | C55: 6219.15 | D55: 6121.42 | E55: 6106.24 | F55: 6086.5 | G55: 6115.18 | H55: 6436.2 | I55: 8967.94 | J55: 9044.6 | K55: 9089.82 | L55: 9097.23 | M55: 9104.9 | N55: 8560.28 | O55: 9108.03 | P55: 9105.4 | Q55: 7884.56 | R55: 7715.6 | S55: 8228.77 | T55: 7642.6 | U55: 7581.65 | V55: 7464.71 | W55: 7448.02 | X55: 6943.23 | Y55: 6615
A56: 11 | B56: 6494.9 | C56: 5378.59 | D56: 5368.64 | E56: 5358.97 | F56: 5353.8 | G56: 5349.26 | H56: 6504.43 | I56: 8305.48 | J56: 9018.25 | K56: 7349.61 | L56: 7610.95 | M56: 7656.19 | N56: 7646.72 | O56: 7724.24 | P56: 7745.28 | Q56: 7769.1 | R56: 7756.26 | S56: 7704.12 | T56: 7649.16 | U56: 7606.24 | V56: 7580.68 | W56: 7352.16 | X56: 6896.01 | Y56: 6579.06
A57: 12 | B57: 6284.36 | C57: 6018.89 | D57: 5549.01 | E57: 5020.33 | F57: 5018.43 | G57: 5460.43 | H57: 6694.59 | I57: 8880.39 | J57: 7361.57 | K57: 7700.39 | L57: 7824.75 | M57: 7991.91 | N57: 7988.8 | O57: 7936.44 | P57: 7967.44 | Q57: 7968.7 | R57: 7956.69 | S57: 7939.97 | T57: 7853.22 | U57: 7753.2 | V57: 7702.91 | W57: 7629.02 | X57: 7241.74 | Y57: 6786.85
... A76: 31 | B76: 6632.14 | C76: 6501.53 | D76: 6599.47 | E76: 6596.95 | F76: 6598.19 | G76: 6606.26 | H76: 6758.35 | I76: 8222.31 | J76: 8860.42 | K76: 9003.77 | L76: 8863.68 | M76: 8856.42 | N76: 8855.23 | O76: 8855.48 | P76: 8972.27 | Q76: 8981.23 | R76: 8858.08 | S76: 8861.16 | T76: 8860.81 | U76: 8858.79 | V76: 7671.87 | W76: 7637.76 | X76: 7319.52 | Y76: 6974.3
A78: Дата | B78: Ставка для фактических почасовых объемов покупки электрической энергии, отпущенных на уровне напряжения СН II
B79: 0:00 - 1:00 | C79: 1:00 - 2:00 | D79: 2:00 - 3:00 | E79: 3:00 - 4:00 | F79: 4:00 - 5:00 | G79: 5:00 - 6:00 | H79: 6:00 - 7:00 | I79: 7:00 - 8:00 | J79: 8:00 - 9:00 | K79: 9:00 - 10:00 | L79: 10:00 - 11:00 | M79: 11:00 - 12:00 | N79: 12:00 - 13:00 | O79: 13:00 - 14:00 | P79: 14:00 - 15:00 | Q79: 15:00 - 16:00 | R79: 16:00 - 17:00 | S79: 17:00 - 18:00 | T79: 18:00 - 19:00 | U79: 19:00 - 20:00 | V79: 20:00 - 21:00 | W79: 21:00 - 22:00 | X79: 22:00 - 23:00 | Y79: 23:00 - 24:00
A80: 1 | B80: 6542.88 | C80: 6308.38 | D80: 6277.23 | E80: 6230.8 | F80: 6160.66 | G80: 6236.22 | H80: 6248.73 | I80: 6365.12 | J80: 6987.89 | K80: 7189.94 | L80: 7364.83 | M80: 7565.35 | N80: 7593.48 | O80: 7505.6 | P80: 7587.12 | Q80: 7818.6 | R80: 7847.99 | S80: 7830 | T80: 7665.03 | U80: 7617.2 | V80: 7629.26 | W80: 7584.42 | X80: 7256.52 | Y80: 6951.84
...

Sheet 4ЦК
I1: Предельные уровни нерегулируемых цен на электрическую энергию (мощность), поставляемую потребителям (покупателям)
I2: Публичного акционерного общества "Рязанская энергетическая сбытовая компания" (ПАО "РЭСК")
I3: ='1ЦК'!B3 -> АВГУСТ 2026г.
I5: IV. Четвертая ценовая категория
B6: (для объемов покупки электрической энергии (мощности), в отношении которых за расчетный период осуществляется почасовой учет, но не осуществляется почасовое планирование, а стоимость услуг по передаче электрической энергии определяется по тарифу на услуги по передаче электрической энергии в двухставочном выражении)
A8: 1. Ставка за электрическую энергию конечных нерегулируемых цен (рублей/ МВт·ч, без НДС)
A9: 1.1. Для потребителей с максимальной мощностью энергопринимающих устройств менее 670 кВт
A10: Дата | B10: Ставка для фактических почасовых объемов покупки электрической энергии, отпущенных на уровне напряжения ВН
B11: 0:00 - 1:00 | C11: 1:00 - 2:00 | D11: 2:00 - 3:00 | E11: 3:00 - 4:00 | F11: 4:00 - 5:00 | G11: 5:00 - 6:00 | H11: 6:00 - 7:00 | I11: 7:00 - 8:00 | J11: 8:00 - 9:00 | K11: 9:00 - 10:00 | L11: 10:00 - 11:00 | M11: 11:00 - 12:00 | N11: 12:00 - 13:00 | O11: 13:00 - 14:00 | P11: 14:00 - 15:00 | Q11: 15:00 - 16:00 | R11: 16:00 - 17:00 | S11: 17:00 - 18:00 | T11: 18:00 - 19:00 | U11: 19:00 - 20:00 | V11: 20:00 - 21:00 | W11: 21:00 - 22:00 | X11: 22:00 - 23:00 | Y11: 23:00 - 24:00
A12: 1 | B12: 3031.88 | C12: 2797.38 | D12: 2766.23 | E12: 2719.8 | F12: 2649.66 | G12: 2725.22 | H12: 2737.73 | I12: 2854.12 | J12: 3476.89 | K12: 3678.94 | L12: 3853.83 | M12: 4054.35 | N12: 4082.48 | O12: 3994.6 | P12: 4076.12 | Q12: 4307.6 | R12: 4336.99 | S12: 4319 | T12: 4154.03 | U12: 4106.2 | V12: 4118.26 | W12: 4073.42 | X12: 3745.52 | Y12: 3440.84
A13: 2 | B13: 2848.07 | C13: 2652.76 | D13: 2614.9 | E13: 2566.13 | F13: 2574.07 | G13: 2563.45 | H13: 2565.96 | I13: 2665.14 | J13: 3219.51 | K13: 3513.12 | L13: 3767.75 | M13: 3909.77 | N13: 3976.43 | O13: 4051.05 | P13: 4106.62 | Q13: 4199.27 | R13: 4292.85 | S13: 4291.5 | T13: 4180.48 | U13: 4196.79 | V13: 4179.37 | W13: 4125.48 | X13: 3846.55 | Y13: 3457.81
A14: 3 | B14: 2689.82 | C14: 2338.19 | D14: 2323.76 | E14: 2313.41 | F14: 2279.1 | G14: 2314.12 | H14: 2335.53 | I14: 2884.6 | J14: 3414.33 | K14: 3728.98 | L14: 4002.65 | M14: 4096.96 | N14: 4076.95 | O14: 4200.65 | P14: 4239.87 | Q14: 4264.38 | R14: 4241.33 | S14: 4150.19 | T14: 3919.92 | U14: 3921.08 | V14: 3848.43 | W14: 3549.38 | X14: 3154.69 | Y14: 2746.18
A15: 4 | B15: 2491.89 | C15: 1958.22 | D15: 1940.32 | E15: 1925.23 | F15: 1911.36 | G15: 1915.36 | H15: 1944.01 | I15: 3030.66 | J15: 3443.75 | K15: 3949.37 | L15: 4138.85 | M15: 4142.8 | N15: 4130.4 | O15: 4230.46 | P15: 4246.82 | Q15: 4329.87 | R15: 4269.49 | S15: 4165.21 | T15: 4127.17 | U15: 3985.44 | V15: 3959.24 | W15: 3800.65 | X15: 3357.88 | Y15: 2852.98
A16: 5 | B16: 2883.54 | C16: 2826.56 | D16: 2140.77 | E16: 2112.96 | F16: 2086.72 | G16: 2422.55 | H16: 3022.14 | I16: 5407.05 | J16: 3994.4 | K16: 4984.08 | L16: 5065.8 | M16: 5012.56 | N16: 5019.36 | O16: 5620.23 | P16: 5623.84 | Q16: 5641.18 | R16: 5064.53 | S16: 4264.21 | T16: 4172.43 | U16: 4042.97 | V16: 3938.72 | W16: 4536.73 | X16: 5487.15 | Y16: 5404.4
A17: 6 | B17: 2380.02 | C17: 1693.45 | D17: 1681.47 | E17: 1672.32 | F17: 1659.47 | G17: 1676.11 | H17: 1693 | I17: 2826.26 | J17: 3592.35 | K17: 4000.27 | L17: 4146.15 | M17: 4239.06 | N17: 4213.08 | O17: 4312.07 | P17: 4351.73 | Q17: 4336.47 | R17: 4348.52 | S17: 4241.16 | T17: 4034.56 | U17: 3978.93 | V17: 3976.83 | W17: 3878.3 | X17: 3386.44 | Y17: 2863.02
A18: 7 | B18: 2891.96 | C18: 2987.25 | D18: 2983.7 | E18: 2981.78 | F18: 2998.03 | G18: 2990.95 | H18: 3040.23 | I18: 4838.58 | J18: 4964.99 | K18: 4148.75 | L18: 4459.78 | M18: 4491.35 | N18: 4490.28 | O18: 4421.42 | P18: 4424.13 | Q18: 4621.36 | R18: 4572.32 | S18: 4484.29 | T18: 4358.76 | U18: 4209.06 | V18: 4147.21 | W18: 4130.48 | X18: 3757.08 | Y18: 4098.69
A19: 8 | B19: 2938.12 | C19: 2680.29 | D19: 2508.2 | E19: 2426.32 | F19: 2317.3 | G19: 2548.32 | H19: 2657.87 | I19: 3085.63 | J19: 3452.95 | K19: 3833.17 | L19: 4006.64 | M19: 4109.52 | N19: 4136.07 | O19: 4206.5 | P19: 4242.91 | Q19: 4332.24 | R19: 4373.46 | S19: 4322.81 | T19: 4192.33 | U19: 4139.95 | V19: 4096.85 | W19: 3988.57 | X19: 3536.23 | Y19: 3173.09
A20: 9 | B20: 3067.22 | C20: 2696.64 | D20: 2645.53 | E20: 2610.24 | F20: 2621.45 | G20: 2632.05 | H20: 2569.63 | I20: 2877.53 | J20: 3269.25 | K20: 3620.95 | L20: 3885.23 | M20: 3899.99 | N20: 3980.16 | O20: 4037.65 | P20: 4059.36 | Q20: 4075.3 | R20: 4153.82 | S20: 4126.89 | T20: 4115.57 | U20: 4077.93 | V20: 4042.18 | W20: 3793.26 | X20: 3402.12 | Y20: 3079.11
A21: 10 | B21: 2913.97 | C21: 2710.29 | D21: 2612.56 | E21: 2597.38 | F21: 2577.64 | G21: 2606.32 | H21: 2927.34 | I21: 5459.08 | J21: 5535.74 | K21: 5580.96 | L21: 5588.37 | M21: 5596.04 | N21: 5051.42 | O21: 5599.17 | P21: 5596.54 | Q21: 4375.7 | R21: 4206.74 | S21: 4719.91 | T21: 4133.74 | U21: 4072.79 | V21: 3955.85 | W21: 3939.16 | X21: 3434.37 | Y21: 3106.14
A22: 11 | B22: 2986.04 | C22: 1869.73 | D22: 1859.78 | E22: 1850.11 | F22: 1844.94 | G22: 1840.4 | H22: 2995.57 | I22: 4796.62 | J22: 5509.39 | K22: 3840.75 | L22: 4102.09 | M22: 4147.33 | N22: 4137.86 | O22: 4215.38 | P22: 4236.42 | Q22: 4260.24 | R22: 4247.4 | S22: 4195.26 | T22: 4140.3 | U22: 4097.38 | V22: 4071.82 | W22: 3843.3 | X22: 3387.15 | Y22: 3070.2
A23: 12 | B23: 2775.5 | C23: 2510.03 | D23: 2040.15 | E23: 1511.47 | F23: 1509.57 | G23: 1951.57 | H23: 3185.73 | I23: 5371.53 | J23: 3852.71 | K23: 4191.53 | L23: 4315.89 | M23: 4483.05 | N23: 4479.94 | O23: 4427.58 | P23: 4458.58 | Q23: 4459.84 | R23: 4447.83 | S23: 4431.11 | T23: 4344.36 | U23: 4244.34 | V23: 4194.05 | W23: 4120.16 | X23: 3732.88 | Y23: 3277.99
... A42: 31 | B42: 3123.28 | C42: 2992.67 | D42: 3090.61 | E42: 3088.09 | F42: 3089.33 | G42: 3097.4 | H42: 3249.49 | I42: 4713.45 | J42: 5351.56 | K42: 5494.91 | L42: 5354.82 | M42: 5347.56 | N42: 5346.37 | O42: 5346.62 | P42: 5463.41 | Q42: 5472.37 | R42: 5349.22 | S42: 5352.3 | T42: 5351.95 | U42: 5349.93 | V42: 4163.01 | W42: 4128.9 | X42: 3810.66 | Y42: 3465.44
A44: Дата | B44: Ставка для фактических почасовых объемов покупки электрической энергии, отпущенных на уровне напряжения СН I
B45: 0:00 - 1:00 | C45: 1:00 - 2:00 | D45: 2:00 - 3:00 | E45: 3:00 - 4:00 | F45: 4:00 - 5:00 | G45: 5:00 - 6:00 | H45: 6:00 - 7:00 | I45: 7:00 - 8:00 | J45: 8:00 - 9:00 | K45: 9:00 - 10:00 | L45: 10:00 - 11:00 | M45: 11:00 - 12:00 | N45: 12:00 - 13:00 | O45: 13:00 - 14:00 | P45: 14:00 - 15:00 | Q45: 15:00 - 16:00 | R45: 16:00 - 17:00 | S45: 17:00 - 18:00 | T45: 18:00 - 19:00 | U45: 19:00 - 20:00 | V45: 20:00 - 21:00 | W45: 21:00 - 22:00 | X45: 22:00 - 23:00 | Y45: 23:00 - 24:00
A46: 1 | B46: 3191.6 | C46: 2957.1 | D46: 2925.95 | E46: 2879.52 | F46: 2809.38 | G46: 2884.94 | H46: 2897.45 | I46: 3013.84 | J46: 3636.61 | K46: 3838.66 | L46: 4013.55 | M46: 4214.07 | N46: 4242.2 | O46: 4154.32 | P46: 4235.84 | Q46: 4467.32 | R46: 4496.71 | S46: 4478.72 | T46: 4313.75 | U46: 4265.92 | V46: 4277.98 | W46: 4233.14 | X46: 3905.24 | Y46: 3600.56
A47: 2 | B47: 3007.79 | C47: 2812.48 | D47: 2774.62 | E47: 2725.85 | F47: 2733.79 | G47: 2723.17 | H47: 2725.68 | I47: 2824.86 | J47: 3379.23 | K47: 3672.84 | L47: 3927.47 | M47: 4069.49 | N47: 4136.15 | O47: 4210.77 | P47: 4266.34 | Q47: 4358.99 | R47: 4452.57 | S47: 4451.22 | T47: 4340.2 | U47: 4356.51 | V47: 4339.09 | W47: 4285.2 | X47: 4006.27 | Y47: 3617.53
A48: 3 | B48: 2849.54 | C48: 2497.91 | D48: 2483.48 | E48: 2473.13 | F48: 2438.82 | G48: 2473.84 | H48: 2495.25 | I48: 3044.32 | J48: 3574.05 | K48: 3888.7 | L48: 4162.37 | M48: 4256.68 | N48: 4236.67 | O48: 4360.37 | P48: 4399.59 | Q48: 4424.1 | R48: 4401.05 | S48: 4309.91 | T48: 4079.64 | U48: 4080.8 | V48: 4008.15 | W48: 3709.1 | X48: 3314.41 | Y48: 2905.9
A49: 4 | B49: 2651.61 | C49: 2117.94 | D49: 2100.04 | E49: 2084.95 | F49: 2071.08 | G49: 2075.08 | H49: 2103.73 | I49: 3190.38 | J49: 3603.47 | K49: 4109.09 | L49: 4298.57 | M49: 4302.52 | N49: 4290.12 | O49: 4390.18 | P49: 4406.54 | Q49: 4489.59 | R49: 4429.21 | S49: 4324.93 | T49: 4286.89 | U49: 4145.16 | V49: 4118.96 | W49: 3960.37 | X49: 3517.6 | Y49: 3012.7
A50: 5 | B50: 3043.26 | C50: 2986.28 | D50: 2300.49 | E50: 2272.68 | F50: 2246.44 | G50: 2582.27 | H50: 3181.86 | I50: 5566.77 | J50: 4154.12 | K50: 5143.8 | L50: 5225.52 | M50: 5172.28 | N50: 5179.08 | O50: 5779.95 | P50: 5783.56 | Q50: 5800.9 | R50: 5224.25 | S50: 4423.93 | T50: 4332.15 | U50: 4202.69 | V50: 4098.44 | W50: 4696.45 | X50: 5646.87 | Y50: 5564.12
A51: 6 | B51: 2539.74 | C51: 1853.17 | D51: 1841.19 | E51: 1832.04 | F51: 1819.19 | G51: 1835.83 | H51: 1852.72 | I51: 2985.98 | J51: 3752.07 | K51: 4159.99 | L51: 4305.87 | M51: 4398.78 | N51: 4372.8 | O51: 4471.79 | P51: 4511.45 | Q51: 4496.19 | R51: 4508.24 | S51: 4400.88 | T51: 4194.28 | U51: 4138.65 | V51: 4136.55 | W51: 4038.02 | X51: 3546.16 | Y51: 3022.74
A52: 7 | B52: 3051.68 | C52: 3146.97 | D52: 3143.42 | E52: 3141.5 | F52: 3157.75 | G52: 3150.67 | H52: 3199.95 | I52: 4998.3 | J52: 5124.71 | K52: 4308.47 | L52: 4619.5 | M52: 4651.07 | N52: 4650 | O52: 4581.14 | P52: 4583.85 | Q52: 4781.08 | R52: 4732.04 | S52: 4644.01 | T52: 4518.48 | U52: 4368.78 | V52: 4306.93 | W52: 4290.2 | X52: 3916.8 | Y52: 4258.41
A53: 8 | B53: 3097.84 | C53: 2840.01 | D53: 2667.92 | E53: 2586.04 | F53: 2477.02 | G53: 2708.04 | H53: 2817.59 | I53: 3245.35 | J53: 3612.67 | K53: 3992.89 | L53: 4166.36 | M53: 4269.24 | N53: 4295.79 | O53: 4366.22 | P53: 4402.63 | Q53: 4491.96 | R53: 4533.18 | S53: 4482.53 | T53: 4352.05 | U53: 4299.67 | V53: 4256.57 | W53: 4148.29 | X53: 3695.95 | Y53: 3332.81
A54: 9 | B54: 3226.94 | C54: 2856.36 | D54: 2805.25 | E54: 2769.96 | F54: 2781.17 | G54: 2791.77 | H54: 2729.35 | I54: 3037.25 | J54: 3428.97 | K54: 3780.67 | L54: 4044.95 | M54: 4059.71 | N54: 4139.88 | O54: 4197.37 | P54: 4219.08 | Q54: 4235.02 | R54: 4313.54 | S54: 4286.61 | T54: 4275.29 | U54: 4237.65 | V54: 4201.9 | W54: 3952.98 | X54: 3561.84 | Y54: 3238.83
A55: 10 | B55: 3073.69 | C55: 2870.01 | D55: 2772.28 | E55: 2757.1 | F55: 2737.36 | G55: 2766.04 | H55: 3087.06 | I55: 5618.8 | J55: 5695.46 | K55: 5740.68 | L55: 5748.09 | M55: 5755.76 | N55: 5211.14 | O55: 5758.89 | P55: 5756.26 | Q55: 4535.42 | R55: 4366.46 | S55: 4879.63 | T55: 4293.46 | U55: 4232.51 | V55: 4115.57 | W55: 4098.88 | X55: 3594.09 | Y55: 3265.86
A56: 11 | B56: 3145.76 | C56: 2029.45 | D56: 2019.5 | E56: 2009.83 | F56: 2004.66 | G56: 2000.12 | H56: 3155.29 | I56: 4956.34 | J56: 5669.11 | K56: 4000.47 | L56: 4261.81 | M56: 4307.05 | N56: 4297.58 | O56: 4375.1 | P56: 4396.14 | Q56: 4419.96 | R56: 4407.12 | S56: 4354.98 | T56: 4300.02 | U56: 4257.1 | V56: 4231.54 | W56: 4003.02 | X56: 3546.87 | Y56: 3229.92
A57: 12 | B57: 2935.22 | C57: 2669.75 | D57: 2199.87 | E57: 1671.19 | F57: 1669.29 | G57: 2111.29 | H57: 3345.45 | I57: 5531.25 | J57: 4012.43 | K57: 4351.25 | L57: 4475.61 | M57: 4642.77 | N57: 4639.66 | O57: 4587.3 | P57: 4618.3 | Q57: 4619.56 | R57: 4607.55 | S57: 4590.83 | T57: 4504.08 | U57: 4404.06 | V57: 4353.77 | W57: 4279.88 | X57: 3892.6 | Y57: 3437.71
... A76: 31 | B76: 3283 | C76: 3152.39 | D76: 3250.33 | E76: 3247.81 | F76: 3249.05 | G76: 3257.12 | H76: 3409.21 | I76: 4873.17 | J76: 5511.28 | K76: 5654.63 | L76: 5514.54 | M76: 5507.28 | N76: 5506.09 | O76: 5506.34 | P76: 5623.13 | Q76: 5632.09 | R76: 5508.94 | S76: 5512.02 | T76: 5511.67 | U76: 5509.65 | V76: 4322.73 | W76: 4288.62 | X76: 3970.38 | Y76: 3625.16
A78: Дата | B78: Ставка для фактических почасовых объемов покупки электрической энергии, отпущенных на уровне напряжения СН II
B79: 0:00 - 1:00 | C79: 1:00 - 2:00 | D79: 2:00 - 3:00 | E79: 3:00 - 4:00 | F79: 4:00 - 5:00 | G79: 5:00 - 6:00 | H79: 6:00 - 7:00 | I79: 7:00 - 8:00 | J79: 8:00 - 9:00 | K79: 9:00 - 10:00 | L79: 10:00 - 11:00 | M79: 11:00 - 12:00 | N79: 12:00 - 13:00 | O79: 13:00 - 14:00 | P79: 14:00 - 15:00 | Q79: 15:00 - 16:00 | R79: 16:00 - 17:00 | S79: 17:00 - 18:00 | T79: 18:00 - 19:00 | U79: 19:00 - 20:00 | V79: 20:00 - 21:00 | W79: 21:00 - 22:00 | X79: 22:00 - 23:00 | Y79: 23:00 - 24:00
A80: 1 | B80: 3302.85 | C80: 3068.35 | D80: 3037.2 | E80: 2990.77 | F80: 2920.63 | G80: 2996.19 | H80: 3008.7 | I80: 3125.09 | J80: 3747.86 | K80: 3949.91 | L80: 4124.8 | M80: 4325.32 | N80: 4353.45 | O80: 4265.57 | P80: 4347.09 | Q80: 4578.57 | R80: 4607.96 | S80: 4589.97 | T80: 4425 | U80: 4377.17 | V80: 4389.23 | W80: 4344.39 | X80: 4016.49 | Y80: 3711.81
...

Sheet 5ЦК
I1: Предельные уровни нерегулируемых цен на электрическую энергию (мощность), поставляемую потребителям (покупателям)
I2: Публичного акционерного общества "Рязанская энергетическая сбытовая компания" (ПАО "РЭСК")
I3: ='1ЦК'!B3 -> АВГУСТ 2026г.
I5: V. Пятая ценовая категория
B6: (для объемов покупки электрической энергии (мощности), в отношении которых за расчетный период осуществляются почасовое планирование и учет, а стоимость услуг по передаче электрической энергии определяется по тарифу на услуги по передаче электрической энергии в одноставочном выражении)
A8: 1. Ставка за электрическую энергию конечных нерегулируемых цен (рублей/ МВт·ч, без НДС)
A9: 1.1. Для потребителей с максимальной мощностью энергопринимающих устройств менее 670 кВт
A10: Дата | B10: Ставка для фактических почасовых объемов покупки электрической энергии, отпущенных на уровне напряжения ВН
B11: 0:00 - 1:00 | C11: 1:00 - 2:00 | D11: 2:00 - 3:00 | E11: 3:00 - 4:00 | F11: 4:00 - 5:00 | G11: 5:00 - 6:00 | H11: 6:00 - 7:00 | I11: 7:00 - 8:00 | J11: 8:00 - 9:00 | K11: 9:00 - 10:00 | L11: 10:00 - 11:00 | M11: 11:00 - 12:00 | N11: 12:00 - 13:00 | O11: 13:00 - 14:00 | P11: 14:00 - 15:00 | Q11: 15:00 - 16:00 | R11: 16:00 - 17:00 | S11: 17:00 - 18:00 | T11: 18:00 - 19:00 | U11: 19:00 - 20:00 | V11: 20:00 - 21:00 | W11: 21:00 - 22:00 | X11: 22:00 - 23:00 | Y11: 23:00 - 24:00
A12: 1 | B12: 5075.8 | C12: 4841.3 | D12: 4810.15 | E12: 4763.72 | F12: 4693.58 | G12: 4769.14 | H12: 4781.65 | I12: 4898.04 | J12: 5520.81 | K12: 5722.86 | L12: 5897.75 | M12: 6098.27 | N12: 6126.4 | O12: 6038.52 | P12: 6120.04 | Q12: 6351.52 | R12: 6380.91 | S12: 6362.92 | T12: 6197.95 | U12: 6150.12 | V12: 6162.18 | W12: 6117.34 | X12: 5789.44 | Y12: 5484.76
A13: 2 | B13: 4891.99 | C13: 4696.68 | D13: 4658.82 | E13: 4610.05 | F13: 4617.99 | G13: 4607.37 | H13: 4609.88 | I13: 4709.06 | J13: 5263.43 | K13: 5557.04 | L13: 5811.67 | M13: 5953.69 | N13: 6020.35 | O13: 6094.97 | P13: 6150.54 | Q13: 6243.19 | R13: 6336.77 | S13: 6335.42 | T13: 6224.4 | U13: 6240.71 | V13: 6223.29 | W13: 6169.4 | X13: 5890.47 | Y13: 5501.73
A14: 3 | B14: 4733.74 | C14: 4382.11 | D14: 4367.68 | E14: 4357.33 | F14: 4323.02 | G14: 4358.04 | H14: 4379.45 | I14: 4928.52 | J14: 5458.25 | K14: 5772.9 | L14: 6046.57 | M14: 6140.88 | N14: 6120.87 | O14: 6244.57 | P14: 6283.79 | Q14: 6308.3 | R14: 6285.25 | S14: 6194.11 | T14: 5963.84 | U14: 5965 | V14: 5892.35 | W14: 5593.3 | X14: 5198.61 | Y14: 4790.1
A15: 4 | B15: 4535.81 | C15: 4002.14 | D15: 3984.24 | E15: 3969.15 | F15: 3955.28 | G15: 3959.28 | H15: 3987.93 | I15: 5074.58 | J15: 5487.67 | K15: 5993.29 | L15: 6182.77 | M15: 6186.72 | N15: 6174.32 | O15: 6274.38 | P15: 6290.74 | Q15: 6373.79 | R15: 6313.41 | S15: 6209.13 | T15: 6171.09 | U15: 6029.36 | V15: 6003.16 | W15: 5844.57 | X15: 5401.8 | Y15: 4896.9
A16: 5 | B16: 4927.46 | C16: 4870.48 | D16: 4184.69 | E16: 4156.88 | F16: 4130.64 | G16: 4466.47 | H16: 5066.06 | I16: 7450.97 | J16: 6038.32 | K16: 7028 | L16: 7109.72 | M16: 7056.48 | N16: 7063.28 | O16: 7664.15 | P16: 7667.76 | Q16: 7685.1 | R16: 7108.45 | S16: 6308.13 | T16: 6216.35 | U16: 6086.89 | V16: 5982.64 | W16: 6580.65 | X16: 7531.07 | Y16: 7448.32
A17: 6 | B17: 4423.94 | C17: 3737.37 | D17: 3725.39 | E17: 3716.24 | F17: 3703.39 | G17: 3720.03 | H17: 3736.92 | I17: 4870.18 | J17: 5636.27 | K17: 6044.19 | L17: 6190.07 | M17: 6282.98 | N17: 6257 | O17: 6355.99 | P17: 6395.65 | Q17: 6380.39 | R17: 6392.44 | S17: 6285.08 | T17: 6078.48 | U17: 6022.85 | V17: 6020.75 | W17: 5922.22 | X17: 5430.36 | Y17: 4906.94
A18: 7 | B18: 4935.88 | C18: 5031.17 | D18: 5027.62 | E18: 5025.7 | F18: 5041.95 | G18: 5034.87 | H18: 5084.15 | I18: 6882.5 | J18: 7008.91 | K18: 6192.67 | L18: 6503.7 | M18: 6535.27 | N18: 6534.2 | O18: 6465.34 | P18: 6468.05 | Q18: 6665.28 | R18: 6616.24 | S18: 6528.21 | T18: 6402.68 | U18: 6252.98 | V18: 6191.13 | W18: 6174.4 | X18: 5801 | Y18: 6142.61
A19: 8 | B19: 4982.04 | C19: 4724.21 | D19: 4552.12 | E19: 4470.24 | F19: 4361.22 | G19: 4592.24 | H19: 4701.79 | I19: 5129.55 | J19: 5496.87 | K19: 5877.09 | L19: 6050.56 | M19: 6153.44 | N19: 6179.99 | O19: 6250.42 | P19: 6286.83 | Q19: 6376.16 | R19: 6417.38 | S19: 6366.73 | T19: 6236.25 | U19: 6183.87 | V19: 6140.77 | W19: 6032.49 | X19: 5580.15 | Y19: 5217.01
A20: 9 | B20: 5111.14 | C20: 4740.56 | D20: 4689.45 | E20: 4654.16 | F20: 4665.37 | G20: 4675.97 | H20: 4613.55 | I20: 4921.45 | J20: 5313.17 | K20: 5664.87 | L20: 5929.15 | M20: 5943.91 | N20: 6024.08 | O20: 6081.57 | P20: 6103.28 | Q20: 6119.22 | R20: 6197.74 | S20: 6170.81 | T20: 6159.49 | U20: 6121.85 | V20: 6086.1 | W20: 5837.18 | X20: 5446.04 | Y20: 5123.03
A21: 10 | B21: 4957.89 | C21: 4754.21 | D21: 4656.48 | E21: 4641.3 | F21: 4621.56 | G21: 4650.24 | H21: 4971.26 | I21: 7503 | J21: 7579.66 | K21: 7624.88 | L21: 7632.29 | M21: 7639.96 | N21: 7095.34 | O21: 7643.09 | P21: 7640.46 | Q21: 6419.62 | R21: 6250.66 | S21: 6763.83 | T21: 6177.66 | U21: 6116.71 | V21: 5999.77 | W21: 5983.08 | X21: 5478.29 | Y21: 5150.06
A22: 11 | B22: 5029.96 | C22: 3913.65 | D22: 3903.7 | E22: 3894.03 | F22: 3888.86 | G22: 3884.32 | H22: 5039.49 | I22: 6840.54 | J22: 7553.31 | K22: 5884.67 | L22: 6146.01 | M22: 6191.25 | N22: 6181.78 | O22: 6259.3 | P22: 6280.34 | Q22: 6304.16 | R22: 6291.32 | S22: 6239.18 | T22: 6184.22 | U22: 6141.3 | V22: 6115.74 | W22: 5887.22 | X22: 5431.07 | Y22: 5114.12
A23: 12 | B23: 4819.42 | C23: 4553.95 | D23: 4084.07 | E23: 3555.39 | F23: 3553.49 | G23: 3995.49 | H23: 5229.65 | I23: 7415.45 | J23: 5896.63 | K23: 6235.45 | L23: 6359.81 | M23: 6526.97 | N23: 6523.86 | O23: 6471.5 | P23: 6502.5 | Q23: 6503.76 | R23: 6491.75 | S23: 6475.03 | T23: 6388.28 | U23: 6288.26 | V23: 6237.97 | W23: 6164.08 | X23: 5776.8 | Y23: 5321.91
... A42: 31 | B42: 5167.2 | C42: 5036.59 | D42: 5134.53 | E42: 5132.01 | F42: 5133.25 | G42: 5141.32 | H42: 5293.41 | I42: 6757.37 | J42: 7395.48 | K42: 7538.83 | L42: 7398.74 | M42: 7391.48 | N42: 7390.29 | O42: 7390.54 | P42: 7507.33 | Q42: 7516.29 | R42: 7393.14 | S42: 7396.22 | T42: 7395.87 | U42: 7393.85 | V42: 6206.93 | W42: 6172.82 | X42: 5854.58 | Y42: 5509.36
A44: Дата | B44: Ставка для фактических почасовых объемов покупки электрической энергии, отпущенных на уровне напряжения СН I
B45: 0:00 - 1:00 | C45: 1:00 - 2:00 | D45: 2:00 - 3:00 | E45: 3:00 - 4:00 | F45: 4:00 - 5:00 | G45: 5:00 - 6:00 | H45: 6:00 - 7:00 | I45: 7:00 - 8:00 | J45: 8:00 - 9:00 | K45: 9:00 - 10:00 | L45: 10:00 - 11:00 | M45: 11:00 - 12:00 | N45: 12:00 - 13:00 | O45: 13:00 - 14:00 | P45: 14:00 - 15:00 | Q45: 15:00 - 16:00 | R45: 16:00 - 17:00 | S45: 17:00 - 18:00 | T45: 18:00 - 19:00 | U45: 19:00 - 20:00 | V45: 20:00 - 21:00 | W45: 21:00 - 22:00 | X45: 22:00 - 23:00 | Y45: 23:00 - 24:00
A46: 1 | B46: 6478.23 | C46: 6243.73 | D46: 6212.58 | E46: 6166.15 | F46: 6096.01 | G46: 6171.57 | H46: 6184.08 | I46: 6300.47 | J46: 6923.24 | K46: 7125.29 | L46: 7300.18 | M46: 7500.7 | N46: 7528.83 | O46: 7440.95 | P46: 7522.47 | Q46: 7753.95 | R46: 7783.34 | S46: 7765.35 | T46: 7600.38 | U46: 7552.55 | V46: 7564.61 | W46: 7519.77 | X46: 7191.87 | Y46: 6887.19
A47: 2 | B47: 6294.42 | C47: 6099.11 | D47: 6061.25 | E47: 6012.48 | F47: 6020.42 | G47: 6009.8 | H47: 6012.31 | I47: 6111.49 | J47: 6665.86 | K47: 6959.47 | L47: 7214.1 | M47: 7356.12 | N47: 7422.78 | O47: 7497.4 | P47: 7552.97 | Q47: 7645.62 | R47: 7739.2 | S47: 7737.85 | T47: 7626.83 | U47: 7643.14 | V47: 7625.72 | W47: 7571.83 | X47: 7292.9 | Y47: 6904.16
A48: 3 | B48: 6136.17 | C48: 5784.54 | D48: 5770.11 | E48: 5759.76 | F48: 5725.45 | G48: 5760.47 | H48: 5781.88 | I48: 6330.95 | J48: 6860.68 | K48: 7175.33 | L48: 7449 | M48: 7543.31 | N48: 7523.3 | O48: 7647 | P48: 7686.22 | Q48: 7710.73 | R48: 7687.68 | S48: 7596.54 | T48: 7366.27 | U48: 7367.43 | V48: 7294.78 | W48: 6995.73 | X48: 6601.04 | Y48: 6192.53
A49: 4 | B49: 5938.24 | C49: 5404.57 | D49: 5386.67 | E49: 5371.58 | F49: 5357.71 | G49: 5361.71 | H49: 5390.36 | I49: 6477.01 | J49: 6890.1 | K49: 7395.72 | L49: 7585.2 | M49: 7589.15 | N49: 7576.75 | O49: 7676.81 | P49: 7693.17 | Q49: 7776.22 | R49: 7715.84 | S49: 7611.56 | T49: 7573.52 | U49: 7431.79 | V49: 7405.59 | W49: 7247 | X49: 6804.23 | Y49: 6299.33
A50: 5 | B50: 6329.89 | C50: 6272.91 | D50: 5587.12 | E50: 5559.31 | F50: 5533.07 | G50: 5868.9 | H50: 6468.49 | I50: 8853.4 | J50: 7440.75 | K50: 8430.43 | L50: 8512.15 | M50: 8458.91 | N50: 8465.71 | O50: 9066.58 | P50: 9070.19 | Q50: 9087.53 | R50: 8510.88 | S50: 7710.56 | T50: 7618.78 | U50: 7489.32 | V50: 7385.07 | W50: 7983.08 | X50: 8933.5 | Y50: 8850.75
A51: 6 | B51: 5826.37 | C51: 5139.8 | D51: 5127.82 | E51: 5118.67 | F51: 5105.82 | G51: 5122.46 | H51: 5139.35 | I51: 6272.61 | J51: 7038.7 | K51: 7446.62 | L51: 7592.5 | M51: 7685.41 | N51: 7659.43 | O51: 7758.42 | P51: 7798.08 | Q51: 7782.82 | R51: 7794.87 | S51: 7687.51 | T51: 7480.91 | U51: 7425.28 | V51: 7423.18 | W51: 7324.65 | X51: 6832.79 | Y51: 6309.37
A52: 7 | B52: 6338.31 | C52: 6433.6 | D52: 6430.05 | E52: 6428.13 | F52: 6444.38 | G52: 6437.3 | H52: 6486.58 | I52: 8284.93 | J52: 8411.34 | K52: 7595.1 | L52: 7906.13 | M52: 7937.7 | N52: 7936.63 | O52: 7867.77 | P52: 7870.48 | Q52: 8067.71 | R52: 8018.67 | S52: 7930.64 | T52: 7805.11 | U52: 7655.41 | V52: 7593.56 | W52: 7576.83 | X52: 7203.43 | Y52: 7545.04
A53: 8 | B53: 6384.47 | C53: 6126.64 | D53: 5954.55 | E53: 5872.67 | F53: 5763.65 | G53: 5994.67 | H53: 6104.22 | I53: 6531.98 | J53: 6899.3 | K53: 7279.52 | L53: 7452.99 | M53: 7555.87 | N53: 7582.42 | O53: 7652.85 | P53: 7689.26 | Q53: 7778.59 | R53: 7819.81 | S53: 7769.16 | T53: 7638.68 | U53: 7586.3 | V53: 7543.2 | W53: 7434.92 | X53: 6982.58 | Y53: 6619.44
A54: 9 | B54: 6513.57 | C54: 6142.99 | D54: 6091.88 | E54: 6056.59 | F54: 6067.8 | G54: 6078.4 | H54: 6015.98 | I54: 6323.88 | J54: 6715.6 | K54: 7067.3 | L54: 7331.58 | M54: 7346.34 | N54: 7426.51 | O54: 7484 | P54: 7505.71 | Q54: 7521.65 | R54: 7600.17 | S54: 7573.24 | T54: 7561.92 | U54: 7524.28 | V54: 7488.53 | W54: 7239.61 | X54: 6848.47 | Y54: 6525.46
A55: 10 | B55: 6360.32 | C55: 6156.64 | D55: 6058.91 | E55: 6043.73 | F55: 6023.99 | G55: 6052.67 | H55: 6373.69 | I55: 8905.43 | J55: 8982.09 | K55: 9027.31 | L55: 9034.72 | M55: 9042.39 | N55: 8497.77 | O55: 9045.52 | P55: 9042.89 | Q55: 7822.05 | R55: 7653.09 | S55: 8166.26 | T55: 7580.09 | U55: 7519.14 | V55: 7402.2 | W55: 7385.51 | X55: 6880.72 | Y55: 6552.49
A56: 11 | B56: 6432.39 | C56: 5316.08 | D56: 5306.13 | E56: 5296.46 | F56: 5291.29 | G56: 5286.75 | H56: 6441.92 | I56: 8242.97 | J56: 8955.74 | K56: 7287.1 | L56: 7548.44 | M56: 7593.68 | N56: 7584.21 | O56: 7661.73 | P56: 7682.77 | Q56: 7706.59 | R56: 7693.75 | S56: 7641.61 | T56: 7586.65 | U56: 7543.73 | V56: 7518.17 | W56: 7289.65 | X56: 6833.5 | Y56: 6516.55
A57: 12 | B57: 6221.85 | C57: 5956.38 | D57: 5486.5 | E57: 4957.82 | F57: 4955.92 | G57: 5397.92 | H57: 6632.08 | I57: 8817.88 | J57: 7299.06 | K57: 7637.88 | L57: 7762.24 | M57: 7929.4 | N57: 7926.29 | O57: 7873.93 | P57: 7904.93 | Q57: 7906.19 | R57: 7894.18 | S57: 7877.46 | T57: 7790.71 | U57: 7690.69 | V57: 7640.4 | W57: 7566.51 | X57: 7179.23 | Y57: 6724.34
... A76: 31 | B76: 6569.63 | C76: 6439.02 | D76: 6536.96 | E76: 6534.44 | F76: 6535.68 | G76: 6543.75 | H76: 6695.84 | I76: 8159.8 | J76: 8797.91 | K76: 8941.26 | L76: 8801.17 | M76: 8793.91 | N76: 8792.72 | O76: 8792.97 | P76: 8909.76 | Q76: 8918.72 | R76: 8795.57 | S76: 8798.65 | T76: 8798.3 | U76: 8796.28 | V76: 7609.36 | W76: 7575.25 | X76: 7257.01 | Y76: 6911.79
A78: Дата | B78: Ставка для фактических почасовых объемов покупки электрической энергии, отпущенных на уровне напряжения СН II
B79: 0:00 - 1:00 | C79: 1:00 - 2:00 | D79: 2:00 - 3:00 | E79: 3:00 - 4:00 | F79: 4:00 - 5:00 | G79: 5:00 - 6:00 | H79: 6:00 - 7:00 | I79: 7:00 - 8:00 | J79: 8:00 - 9:00 | K79: 9:00 - 10:00 | L79: 10:00 - 11:00 | M79: 11:00 - 12:00 | N79: 12:00 - 13:00 | O79: 13:00 - 14:00 | P79: 14:00 - 15:00 | Q79: 15:00 - 16:00 | R79: 16:00 - 17:00 | S79: 17:00 - 18:00 | T79: 18:00 - 19:00 | U79: 19:00 - 20:00 | V79: 20:00 - 21:00 | W79: 21:00 - 22:00 | X79: 22:00 - 23:00 | Y79: 23:00 - 24:00
A80: 1 | B80: 6480.37 | C80: 6245.87 | D80: 6214.72 | E80: 6168.29 | F80: 6098.15 | G80: 6173.71 | H80: 6186.22 | I80: 6302.61 | J80: 6925.38 | K80: 7127.43 | L80: 7302.32 | M80: 7502.84 | N80: 7530.97 | O80: 7443.09 | P80: 7524.61 | Q80: 7756.09 | R80: 7785.48 | S80: 7767.49 | T80: 7602.52 | U80: 7554.69 | V80: 7566.75 | W80: 7521.91 | X80: 7194.01 | Y80: 6889.33
...

Sheet 6ЦК
I1: Предельные уровни нерегулируемых цен на электрическую энергию (мощность), поставляемую потребителям (покупателям)
I2: Публичного акционерного общества "Рязанская энергетическая сбытовая компания" (ПАО "РЭСК")
I3: ='1ЦК'!B3 -> АВГУСТ 2026г.
I5: VI. Шестая ценовая категория
B6: (для объемов покупки электрической энергии (мощности), в отношении которых за расчетный период осуществляются почасовое планирование и учет, а стоимость услуг по передаче электрической энергии определяется по тарифу на услуги по передаче электрической энергии в двухставочном выражении)
A8: 1. Ставка за электрическую энергию конечных нерегулируемых цен (рублей/ МВт·ч, без НДС)
A9: 1.1. Для потребителей с максимальной мощностью энергопринимающих устройств менее 670 кВт
A10: Дата | B10: Ставка для фактических почасовых объемов покупки электрической энергии, отпущенных на уровне напряжения ВН
B11: 0:00 - 1:00 | C11: 1:00 - 2:00 | D11: 2:00 - 3:00 | E11: 3:00 - 4:00 | F11: 4:00 - 5:00 | G11: 5:00 - 6:00 | H11: 6:00 - 7:00 | I11: 7:00 - 8:00 | J11: 8:00 - 9:00 | K11: 9:00 - 10:00 | L11: 10:00 - 11:00 | M11: 11:00 - 12:00 | N11: 12:00 - 13:00 | O11: 13:00 - 14:00 | P11: 14:00 - 15:00 | Q11: 15:00 - 16:00 | R11: 16:00 - 17:00 | S11: 17:00 - 18:00 | T11: 18:00 - 19:00 | U11: 19:00 - 20:00 | V11: 20:00 - 21:00 | W11: 21:00 - 22:00 | X11: 22:00 - 23:00 | Y11: 23:00 - 24:00
A12: 1 | B12: 2969.37 | C12: 2734.87 | D12: 2703.72 | E12: 2657.29 | F12: 2587.15 | G12: 2662.71 | H12: 2675.22 | I12: 2791.61 | J12: 3414.38 | K12: 3616.43 | L12: 3791.32 | M12: 3991.84 | N12: 4019.97 | O12: 3932.09 | P12: 4013.61 | Q12: 4245.09 | R12: 4274.48 | S12: 4256.49 | T12: 4091.52 | U12: 4043.69 | V12: 4055.75 | W12: 4010.91 | X12: 3683.01 | Y12: 3378.33
A13: 2 | B13: 2785.56 | C13: 2590.25 | D13: 2552.39 | E13: 2503.62 | F13: 2511.56 | G13: 2500.94 | H13: 2503.45 | I13: 2602.63 | J13: 3157 | K13: 3450.61 | L13: 3705.24 | M13: 3847.26 | N13: 3913.92 | O13: 3988.54 | P13: 4044.11 | Q13: 4136.76 | R13: 4230.34 | S13: 4228.99 | T13: 4117.97 | U13: 4134.28 | V13: 4116.86 | W13: 4062.97 | X13: 3784.04 | Y13: 3395.3
A14: 3 | B14: 2627.31 | C14: 2275.68 | D14: 2261.25 | E14: 2250.9 | F14: 2216.59 | G14: 2251.61 | H14: 2273.02 | I14: 2822.09 | J14: 3351.82 | K14: 3666.47 | L14: 3940.14 | M14: 4034.45 | N14: 4014.44 | O14: 4138.14 | P14: 4177.36 | Q14: 4201.87 | R14: 4178.82 | S14: 4087.68 | T14: 3857.41 | U14: 3858.57 | V14: 3785.92 | W14: 3486.87 | X14: 3092.18 | Y14: 2683.67
A15: 4 | B15: 2429.38 | C15: 1895.71 | D15: 1877.81 | E15: 1862.72 | F15: 1848.85 | G15: 1852.85 | H15: 1881.5 | I15: 2968.15 | J15: 3381.24 | K15: 3886.86 | L15: 4076.34 | M15: 4080.29 | N15: 4067.89 | O15: 4167.95 | P15: 4184.31 | Q15: 4267.36 | R15: 4206.98 | S15: 4102.7 | T15: 4064.66 | U15: 3922.93 | V15: 3896.73 | W15: 3738.14 | X15: 3295.37 | Y15: 2790.47
A16: 5 | B16: 2821.03 | C16: 2764.05 | D16: 2078.26 | E16: 2050.45 | F16: 2024.21 | G16: 2360.04 | H16: 2959.63 | I16: 5344.54 | J16: 3931.89 | K16: 4921.57 | L16: 5003.29 | M16: 4950.05 | N16: 4956.85 | O16: 5557.72 | P16: 5561.33 | Q16: 5578.67 | R16: 5002.02 | S16: 4201.7 | T16: 4109.92 | U16: 3980.46 | V16: 3876.21 | W16: 4474.22 | X16: 5424.64 | Y16: 5341.89
A17: 6 | B17: 2317.51 | C17: 1630.94 | D17: 1618.96 | E17: 1609.81 | F17: 1596.96 | G17: 1613.6 | H17: 1630.49 | I17: 2763.75 | J17: 3529.84 | K17: 3937.76 | L17: 4083.64 | M17: 4176.55 | N17: 4150.57 | O17: 4249.56 | P17: 4289.22 | Q17: 4273.96 | R17: 4286.01 | S17: 4178.65 | T17: 3972.05 | U17: 3916.42 | V17: 3914.32 | W17: 3815.79 | X17: 3323.93 | Y17: 2800.51
A18: 7 | B18: 2829.45 | C18: 2924.74 | D18: 2921.19 | E18: 2919.27 | F18: 2935.52 | G18: 2928.44 | H18: 2977.72 | I18: 4776.07 | J18: 4902.48 | K18: 4086.24 | L18: 4397.27 | M18: 4428.84 | N18: 4427.77 | O18: 4358.91 | P18: 4361.62 | Q18: 4558.85 | R18: 4509.81 | S18: 4421.78 | T18: 4296.25 | U18: 4146.55 | V18: 4084.7 | W18: 4067.97 | X18: 3694.57 | Y18: 4036.18
A19: 8 | B19: 2875.61 | C19: 2617.78 | D19: 2445.69 | E19: 2363.81 | F19: 2254.79 | G19: 2485.81 | H19: 2595.36 | I19: 3023.12 | J19: 3390.44 | K19: 3770.66 | L19: 3944.13 | M19: 4047.01 | N19: 4073.56 | O19: 4143.99 | P19: 4180.4 | Q19: 4269.73 | R19: 4310.95 | S19: 4260.3 | T19: 4129.82 | U19: 4077.44 | V19: 4034.34 | W19: 3926.06 | X19: 3473.72 | Y19: 3110.58
A20: 9 | B20: 3004.71 | C20: 2634.13 | D20: 2583.02 | E20: 2547.73 | F20: 2558.94 | G20: 2569.54 | H20: 2507.12 | I20: 2815.02 | J20: 3206.74 | K20: 3558.44 | L20: 3822.72 | M20: 3837.48 | N20: 3917.65 | O20: 3975.14 | P20: 3996.85 | Q20: 4012.79 | R20: 4091.31 | S20: 4064.38 | T20: 4053.06 | U20: 4015.42 | V20: 3979.67 | W20: 3730.75 | X20: 3339.61 | Y20: 3016.6
A21: 10 | B21: 2851.46 | C21: 2647.78 | D21: 2550.05 | E21: 2534.87 | F21: 2515.13 | G21: 2543.81 | H21: 2864.83 | I21: 5396.57 | J21: 5473.23 | K21: 5518.45 | L21: 5525.86 | M21: 5533.53 | N21: 4988.91 | O21: 5536.66 | P21: 5534.03 | Q21: 4313.19 | R21: 4144.23 | S21: 4657.4 | T21: 4071.23 | U21: 4010.28 | V21: 3893.34 | W21: 3876.65 | X21: 3371.86 | Y21: 3043.63
A22: 11 | B22: 2923.53 | C22: 1807.22 | D22: 1797.27 | E22: 1787.6 | F22: 1782.43 | G22: 1777.89 | H22: 2933.06 | I22: 4734.11 | J22: 5446.88 | K22: 3778.24 | L22: 4039.58 | M22: 4084.82 | N22: 4075.35 | O22: 4152.87 | P22: 4173.91 | Q22: 4197.73 | R22: 4184.89 | S22: 4132.75 | T22: 4077.79 | U22: 4034.87 | V22: 4009.31 | W22: 3780.79 | X22: 3324.64 | Y22: 3007.69
A23: 12 | B23: 2712.99 | C23: 2447.52 | D23: 1977.64 | E23: 1448.96 | F23: 1447.06 | G23: 1889.06 | H23: 3123.22 | I23: 5309.02 | J23: 3790.2 | K23: 4129.02 | L23: 4253.38 | M23: 4420.54 | N23: 4417.43 | O23: 4365.07 | P23: 4396.07 | Q23: 4397.33 | R23: 4385.32 | S23: 4368.6 | T23: 4281.85 | U23: 4181.83 | V23: 4131.54 | W23: 4057.65 | X23: 3670.37 | Y23: 3215.48
... A42: 31 | B42: 3060.77 | C42: 2930.16 | D42: 3028.1 | E42: 3025.58 | F42: 3026.82 | G42: 3034.89 | H42: 3186.98 | I42: 4650.94 | J42: 5289.05 | K42: 5432.4 | L42: 5292.31 | M42: 5285.05 | N42: 5283.86 | O42: 5284.11 | P42: 5400.9 | Q42: 5409.86 | R42: 5286.71 | S42: 5289.79 | T42: 5289.44 | U42: 5287.42 | V42: 4100.5 | W42: 4066.39 | X42: 3748.15 | Y42: 3402.93
A44: Дата | B44: Ставка для фактических почасовых объемов покупки электрической энергии, отпущенных на уровне напряжения СН I
B45: 0:00 - 1:00 | C45: 1:00 - 2:00 | D45: 2:00 - 3:00 | E45: 3:00 - 4:00 | F45: 4:00 - 5:00 | G45: 5:00 - 6:00 | H45: 6:00 - 7:00 | I45: 7:00 - 8:00 | J45: 8:00 - 9:00 | K45: 9:00 - 10:00 | L45: 10:00 - 11:00 | M45: 11:00 - 12:00 | N45: 12:00 - 13:00 | O45: 13:00 - 14:00 | P45: 14:00 - 15:00 | Q45: 15:00 - 16:00 | R45: 16:00 - 17:00 | S45: 17:00 - 18:00 | T45: 18:00 - 19:00 | U45: 19:00 - 20:00 | V45: 20:00 - 21:00 | W45: 21:00 - 22:00 | X45: 22:00 - 23:00 | Y45: 23:00 - 24:00
A46: 1 | B46: 3129.09 | C46: 2894.59 | D46: 2863.44 | E46: 2817.01 | F46: 2746.87 | G46: 2822.43 | H46: 2834.94 | I46: 2951.33 | J46: 3574.1 | K46: 3776.15 | L46: 3951.04 | M46: 4151.56 | N46: 4179.69 | O46: 4091.81 | P46: 4173.33 | Q46: 4404.81 | R46: 4434.2 | S46: 4416.21 | T46: 4251.24 | U46: 4203.41 | V46: 4215.47 | W46: 4170.63 | X46: 3842.73 | Y46: 3538.05
A47: 2 | B47: 2945.28 | C47: 2749.97 | D47: 2712.11 | E47: 2663.34 | F47: 2671.28 | G47: 2660.66 | H47: 2663.17 | I47: 2762.35 | J47: 3316.72 | K47: 3610.33 | L47: 3864.96 | M47: 4006.98 | N47: 4073.64 | O47: 4148.26 | P47: 4203.83 | Q47: 4296.48 | R47: 4390.06 | S47: 4388.71 | T47: 4277.69 | U47: 4294 | V47: 4276.58 | W47: 4222.69 | X47: 3943.76 | Y47: 3555.02
A48: 3 | B48: 2787.03 | C48: 2435.4 | D48: 2420.97 | E48: 2410.62 | F48: 2376.31 | G48: 2411.33 | H48: 2432.74 | I48: 2981.81 | J48: 3511.54 | K48: 3826.19 | L48: 4099.86 | M48: 4194.17 | N48: 4174.16 | O48: 4297.86 | P48: 4337.08 | Q48: 4361.59 | R48: 4338.54 | S48: 4247.4 | T48: 4017.13 | U48: 4018.29 | V48: 3945.64 | W48: 3646.59 | X48: 3251.9 | Y48: 2843.39
A49: 4 | B49: 2589.1 | C49: 2055.43 | D49: 2037.53 | E49: 2022.44 | F49: 2008.57 | G49: 2012.57 | H49: 2041.22 | I49: 3127.87 | J49: 3540.96 | K49: 4046.58 | L49: 4236.06 | M49: 4240.01 | N49: 4227.61 | O49: 4327.67 | P49: 4344.03 | Q49: 4427.08 | R49: 4366.7 | S49: 4262.42 | T49: 4224.38 | U49: 4082.65 | V49: 4056.45 | W49: 3897.86 | X49: 3455.09 | Y49: 2950.19
A50: 5 | B50: 2980.75 | C50: 2923.77 | D50: 2237.98 | E50: 2210.17 | F50: 2183.93 | G50: 2519.76 | H50: 3119.35 | I50: 5504.26 | J50: 4091.61 | K50: 5081.29 | L50: 5163.01 | M50: 5109.77 | N50: 5116.57 | O50: 5717.44 | P50: 5721.05 | Q50: 5738.39 | R50: 5161.74 | S50: 4361.42 | T50: 4269.64 | U50: 4140.18 | V50: 4035.93 | W50: 4633.94 | X50: 5584.36 | Y50: 5501.61
A51: 6 | B51: 2477.23 | C51: 1790.66 | D51: 1778.68 | E51: 1769.53 | F51: 1756.68 | G51: 1773.32 | H51: 1790.21 | I51: 2923.47 | J51: 3689.56 | K51: 4097.48 | L51: 4243.36 | M51: 4336.27 | N51: 4310.29 | O51: 4409.28 | P51: 4448.94 | Q51: 4433.68 | R51: 4445.73 | S51: 4338.37 | T51: 4131.77 | U51: 4076.14 | V51: 4074.04 | W51: 3975.51 | X51: 3483.65 | Y51: 2960.23
A52: 7 | B52: 2989.17 | C52: 3084.46 | D52: 3080.91 | E52: 3078.99 | F52: 3095.24 | G52: 3088.16 | H52: 3137.44 | I52: 4935.79 | J52: 5062.2 | K52: 4245.96 | L52: 4556.99 | M52: 4588.56 | N52: 4587.49 | O52: 4518.63 | P52: 4521.34 | Q52: 4718.57 | R52: 4669.53 | S52: 4581.5 | T52: 4455.97 | U52: 4306.27 | V52: 4244.42 | W52: 4227.69 | X52: 3854.29 | Y52: 4195.9
A53: 8 | B53: 3035.33 | C53: 2777.5 | D53: 2605.41 | E53: 2523.53 | F53: 2414.51 | G53: 2645.53 | H53: 2755.08 | I53: 3182.84 | J53: 3550.16 | K53: 3930.38 | L53: 4103.85 | M53: 4206.73 | N53: 4233.28 | O53: 4303.71 | P53: 4340.12 | Q53: 4429.45 | R53: 4470.67 | S53: 4420.02 | T53: 4289.54 | U53: 4237.16 | V53: 4194.06 | W53: 4085.78 | X53: 3633.44 | Y53: 3270.3
A54: 9 | B54: 3164.43 | C54: 2793.85 | D54: 2742.74 | E54: 2707.45 | F54: 2718.66 | G54: 2729.26 | H54: 2666.84 | I54: 2974.74 | J54: 3366.46 | K54: 3718.16 | L54: 3982.44 | M54: 3997.2 | N54: 4077.37 | O54: 4134.86 | P54: 4156.57 | Q54: 4172.51 | R54: 4251.03 | S54: 4224.1 | T54: 4212.78 | U54: 4175.14 | V54: 4139.39 | W54: 3890.47 | X54: 3499.33 | Y54: 3176.32
A55: 10 | B55: 3011.18 | C55: 2807.5 | D55: 2709.77 | E55: 2694.59 | F55: 2674.85 | G55: 2703.53 | H55: 3024.55 | I55: 5556.29 | J55: 5632.95 | K55: 5678.17 | L55: 5685.58 | M55: 5693.25 | N55: 5148.63 | O55: 5696.38 | P55: 5693.75 | Q55: 4472.91 | R55: 4303.95 | S55: 4817.12 | T55: 4230.95 | U55: 4170 | V55: 4053.06 | W55: 4036.37 | X55: 3531.58 | Y55: 3203.35
A56: 11 | B56: 3083.25 | C56: 1966.94 | D56: 1956.99 | E56: 1947.32 | F56: 1942.15 | G56: 1937.61 | H56: 3092.78 | I56: 4893.83 | J56: 5606.6 | K56: 3937.96 | L56: 4199.3 | M56: 4244.54 | N56: 4235.07 | O56: 4312.59 | P56: 4333.63 | Q56: 4357.45 | R56: 4344.61 | S56: 4292.47 | T56: 4237.51 | U56: 4194.59 | V56: 4169.03 | W56: 3940.51 | X56: 3484.36 | Y56: 3167.41
A57: 12 | B57: 2872.71 | C57: 2607.24 | D57: 2137.36 | E57: 1608.68 | F57: 1606.78 | G57: 2048.78 | H57: 3282.94 | I57: 5468.74 | J57: 3949.92 | K57: 4288.74 | L57: 4413.1 | M57: 4580.26 | N57: 4577.15 | O57: 4524.79 | P57: 4555.79 | Q57: 4557.05 | R57: 4545.04 | S57: 4528.32 | T57: 4441.57 | U57: 4341.55 | V57: 4291.26 | W57: 4217.37 | X57: 3830.09 | Y57: 3375.2
... A76: 31 | B76: 3220.49 | C76: 3089.88 | D76: 3187.82 | E76: 3185.3 | F76: 3186.54 | G76: 3194.61 | H76: 3346.7 | I76: 4810.66 | J76: 5448.77 | K76: 5592.12 | L76: 5452.03 | M76: 5444.77 | N76: 5443.58 | O76: 5443.83 | P76: 5560.62 | Q76: 5569.58 | R76: 5446.43 | S76: 5449.51 | T76: 5449.16 | U76: 5447.14 | V76: 4260.22 | W76: 4226.11 | X76: 3907.87 | Y76: 3562.65
A78: Дата | B78: Ставка для фактических почасовых объемов покупки электрической энергии, отпущенных на уровне напряжения СН II
B79: 0:00 - 1:00 | C79: 1:00 - 2:00 | D79: 2:00 - 3:00 | E79: 3:00 - 4:00 | F79: 4:00 - 5:00 | G79: 5:00 - 6:00 | H79: 6:00 - 7:00 | I79: 7:00 - 8:00 | J79: 8:00 - 9:00 | K79: 9:00 - 10:00 | L79: 10:00 - 11:00 | M79: 11:00 - 12:00 | N79: 12:00 - 13:00 | O79: 13:00 - 14:00 | P79: 14:00 - 15:00 | Q79: 15:00 - 16:00 | R79: 16:00 - 17:00 | S79: 17:00 - 18:00 | T79: 18:00 - 19:00 | U79: 19:00 - 20:00 | V79: 20:00 - 21:00 | W79: 21:00 - 22:00 | X79: 22:00 - 23:00 | Y79: 23:00 - 24:00
A80: 1 | B80: 3240.34 | C80: 3005.84 | D80: 2974.69 | E80: 2928.26 | F80: 2858.12 | G80: 2933.68 | H80: 2946.19 | I80: 3062.58 | J80: 3685.35 | K80: 3887.4 | L80: 4062.29 | M80: 4262.81 | N80: 4290.94 | O80: 4203.06 | P80: 4284.58 | Q80: 4516.06 | R80: 4545.45 | S80: 4527.46 | T80: 4362.49 | U80: 4314.66 | V80: 4326.72 | W80: 4281.88 | X80: 3953.98 | Y80: 3649.3
...
